BEGIN:VCALENDAR
VERSION:2.0
PRODID:-//St. Elisabeth Ulm - ECPv6.15.20//NONSGML v1.0//EN
CALSCALE:GREGORIAN
METHOD:PUBLISH
X-WR-CALNAME:St. Elisabeth Ulm
X-ORIGINAL-URL:https://st-elisabeth-ulm.de
X-WR-CALDESC:Veranstaltungen für St. Elisabeth Ulm
REFRESH-INTERVAL;VALUE=DURATION:PT1H
X-Robots-Tag:noindex
X-PUBLISHED-TTL:PT1H
BEGIN:VTIMEZONE
TZID:Europe/Berlin
BEGIN:DAYLIGHT
TZOFFSETFROM:+0100
TZOFFSETTO:+0200
TZNAME:CEST
DTSTART:20220327T010000
END:DAYLIGHT
BEGIN:STANDARD
TZOFFSETFROM:+0200
TZOFFSETTO:+0100
TZNAME:CET
DTSTART:20221030T010000
END:STANDARD
BEGIN:DAYLIGHT
TZOFFSETFROM:+0100
TZOFFSETTO:+0200
TZNAME:CEST
DTSTART:20230326T010000
END:DAYLIGHT
BEGIN:STANDARD
TZOFFSETFROM:+0200
TZOFFSETTO:+0100
TZNAME:CET
DTSTART:20231029T010000
END:STANDARD
BEGIN:DAYLIGHT
TZOFFSETFROM:+0100
TZOFFSETTO:+0200
TZNAME:CEST
DTSTART:20240331T010000
END:DAYLIGHT
BEGIN:STANDARD
TZOFFSETFROM:+0200
TZOFFSETTO:+0100
TZNAME:CET
DTSTART:20241027T010000
END:STANDARD
END:VTIMEZONE
BEGIN:VEVENT
DTSTART;TZID=Europe/Berlin:20231229T163000
DTEND;TZID=Europe/Berlin:20231229T170000
DTSTAMP:20260423T121528
CREATED:20231129T143206Z
LAST-MODIFIED:20231129T143251Z
UID:6888-1703867400-1703869200@st-elisabeth-ulm.de
SUMMARY:Sternsingerprobe
DESCRIPTION:
URL:https://st-elisabeth-ulm.de/termine/probe-sternsinger/
LOCATION:Roncallihaus
END:VEVENT
BEGIN:VEVENT
DTSTART;TZID=Europe/Berlin:20231229T183000
DTEND;TZID=Europe/Berlin:20231229T183000
DTSTAMP:20260423T121528
CREATED:20231129T143110Z
LAST-MODIFIED:20231129T143110Z
UID:6885-1703874600-1703874600@st-elisabeth-ulm.de
SUMMARY:Eucharistiefeier
DESCRIPTION:
URL:https://st-elisabeth-ulm.de/termine/eucharistiefeier-93/
END:VEVENT
END:VCALENDAR