BEGIN:VCALENDAR
VERSION:2.0
PRODID:-//St. Elisabeth Ulm - ECPv6.15.20//NONSGML v1.0//EN
CALSCALE:GREGORIAN
METHOD:PUBLISH
X-WR-CALNAME:St. Elisabeth Ulm
X-ORIGINAL-URL:https://st-elisabeth-ulm.de
X-WR-CALDESC:Veranstaltungen für St. Elisabeth Ulm
REFRESH-INTERVAL;VALUE=DURATION:PT1H
X-Robots-Tag:noindex
X-PUBLISHED-TTL:PT1H
BEGIN:VTIMEZONE
TZID:Europe/Berlin
BEGIN:DAYLIGHT
TZOFFSETFROM:+0100
TZOFFSETTO:+0200
TZNAME:CEST
DTSTART:20230326T010000
END:DAYLIGHT
BEGIN:STANDARD
TZOFFSETFROM:+0200
TZOFFSETTO:+0100
TZNAME:CET
DTSTART:20231029T010000
END:STANDARD
BEGIN:DAYLIGHT
TZOFFSETFROM:+0100
TZOFFSETTO:+0200
TZNAME:CEST
DTSTART:20240331T010000
END:DAYLIGHT
BEGIN:STANDARD
TZOFFSETFROM:+0200
TZOFFSETTO:+0100
TZNAME:CET
DTSTART:20241027T010000
END:STANDARD
BEGIN:DAYLIGHT
TZOFFSETFROM:+0100
TZOFFSETTO:+0200
TZNAME:CEST
DTSTART:20250330T010000
END:DAYLIGHT
BEGIN:STANDARD
TZOFFSETFROM:+0200
TZOFFSETTO:+0100
TZNAME:CET
DTSTART:20251026T010000
END:STANDARD
END:VTIMEZONE
BEGIN:VEVENT
DTSTART;TZID=Europe/Berlin:20240101T110000
DTEND;TZID=Europe/Berlin:20240101T110000
DTSTAMP:20260423T122708
CREATED:20231227T102343Z
LAST-MODIFIED:20231227T102849Z
UID:6908-1704106800-1704106800@st-elisabeth-ulm.de
SUMMARY:Eucharistiefeier der SE
DESCRIPTION:
URL:https://st-elisabeth-ulm.de/termine/eucharistiefeier-der-se/
LOCATION:St. Elisabeth
END:VEVENT
BEGIN:VEVENT
DTSTART;TZID=Europe/Berlin:20240105T183000
DTEND;TZID=Europe/Berlin:20240105T183000
DTSTAMP:20260423T122708
CREATED:20231227T102343Z
LAST-MODIFIED:20231227T102849Z
UID:6909-1704479400-1704479400@st-elisabeth-ulm.de
SUMMARY:Eucharistiefeier
DESCRIPTION:
URL:https://st-elisabeth-ulm.de/termine/eucharistiefeier-94/
LOCATION:St. Elisabeth
END:VEVENT
BEGIN:VEVENT
DTSTART;TZID=Europe/Berlin:20240106T110000
DTEND;TZID=Europe/Berlin:20240106T110000
DTSTAMP:20260423T122708
CREATED:20231227T102343Z
LAST-MODIFIED:20231227T102849Z
UID:6910-1704538800-1704538800@st-elisabeth-ulm.de
SUMMARY:Eucharistiefeier mit Sternsinger
DESCRIPTION:
URL:https://st-elisabeth-ulm.de/termine/eucharistiefeier-mit-sternsinger-5/
LOCATION:St. Elisabeth
END:VEVENT
BEGIN:VEVENT
DTSTART;TZID=Europe/Berlin:20240107T110000
DTEND;TZID=Europe/Berlin:20240107T110000
DTSTAMP:20260423T122708
CREATED:20231227T102344Z
LAST-MODIFIED:20231227T102850Z
UID:6911-1704625200-1704625200@st-elisabeth-ulm.de
SUMMARY:Eucharistiefeier
DESCRIPTION:
URL:https://st-elisabeth-ulm.de/termine/eucharistiefeier-95/
LOCATION:St. Elisabeth
END:VEVENT
BEGIN:VEVENT
DTSTART;TZID=Europe/Berlin:20240107T160000
DTEND;TZID=Europe/Berlin:20240107T160000
DTSTAMP:20260423T122708
CREATED:20231227T102344Z
LAST-MODIFIED:20231227T102850Z
UID:6912-1704643200-1704643200@st-elisabeth-ulm.de
SUMMARY:Konzert cantus novus
DESCRIPTION:
URL:https://st-elisabeth-ulm.de/termine/konzert-cantus-novus/
LOCATION:St. Elisabeth
END:VEVENT
BEGIN:VEVENT
DTSTART;TZID=Europe/Berlin:20240109T160000
DTEND;TZID=Europe/Berlin:20240109T160000
DTSTAMP:20260423T122708
CREATED:20231227T102344Z
LAST-MODIFIED:20231227T102850Z
UID:6913-1704816000-1704816000@st-elisabeth-ulm.de
SUMMARY:Kinderchor
DESCRIPTION:
URL:https://st-elisabeth-ulm.de/termine/kinderchor-42/
LOCATION:Roncallihaus
END:VEVENT
BEGIN:VEVENT
DTSTART;TZID=Europe/Berlin:20240109T193000
DTEND;TZID=Europe/Berlin:20240109T193000
DTSTAMP:20260423T122708
CREATED:20231227T102345Z
LAST-MODIFIED:20241216T091938Z
UID:6914-1704828600-1704828600@st-elisabeth-ulm.de
SUMMARY:KGR-Sitzung
DESCRIPTION:
URL:https://st-elisabeth-ulm.de/termine/kgr-sitzung-13/
LOCATION:Roncallihaus
END:VEVENT
BEGIN:VEVENT
DTSTART;TZID=Europe/Berlin:20240110T090000
DTEND;TZID=Europe/Berlin:20240110T090000
DTSTAMP:20260423T122708
CREATED:20231227T102345Z
LAST-MODIFIED:20231227T102850Z
UID:6915-1704877200-1704877200@st-elisabeth-ulm.de
SUMMARY:Krabbelgruppe
DESCRIPTION:
URL:https://st-elisabeth-ulm.de/termine/krabbelgruppe-51/
LOCATION:Roncallihaus
END:VEVENT
BEGIN:VEVENT
DTSTART;TZID=Europe/Berlin:20240110T143000
DTEND;TZID=Europe/Berlin:20240110T143000
DTSTAMP:20260423T122708
CREATED:20231227T102359Z
LAST-MODIFIED:20231227T102906Z
UID:6916-1704897000-1704897000@st-elisabeth-ulm.de
SUMMARY:Kaffeezeit
DESCRIPTION:
URL:https://st-elisabeth-ulm.de/termine/kaffeezeit-15/
LOCATION:Roncallihaus
END:VEVENT
BEGIN:VEVENT
DTSTART;TZID=Europe/Berlin:20240111T190000
DTEND;TZID=Europe/Berlin:20240111T190000
DTSTAMP:20260423T122708
CREATED:20231227T102359Z
LAST-MODIFIED:20231227T102906Z
UID:6917-1704999600-1704999600@st-elisabeth-ulm.de
SUMMARY:Infoabend Kath. Schule St. Michael
DESCRIPTION:
URL:https://st-elisabeth-ulm.de/termine/infoabend-kath-schule-st-michael/
LOCATION:St. Elisabeth
END:VEVENT
BEGIN:VEVENT
DTSTART;TZID=Europe/Berlin:20240112T183000
DTEND;TZID=Europe/Berlin:20240112T183000
DTSTAMP:20260423T122708
CREATED:20231227T102400Z
LAST-MODIFIED:20231227T102906Z
UID:6918-1705084200-1705084200@st-elisabeth-ulm.de
SUMMARY:Eucharistiefeier
DESCRIPTION:
URL:https://st-elisabeth-ulm.de/termine/eucharistiefeier-96/
LOCATION:St. Elisabeth
END:VEVENT
BEGIN:VEVENT
DTSTART;TZID=Europe/Berlin:20240114T110000
DTEND;TZID=Europe/Berlin:20240114T110000
DTSTAMP:20260423T122708
CREATED:20231227T102400Z
LAST-MODIFIED:20231227T102906Z
UID:6919-1705230000-1705230000@st-elisabeth-ulm.de
SUMMARY:Eucharistiefeier
DESCRIPTION:
URL:https://st-elisabeth-ulm.de/termine/eucharistiefeier-97/
LOCATION:St. Elisabeth
END:VEVENT
BEGIN:VEVENT
DTSTART;TZID=Europe/Berlin:20240115T190000
DTEND;TZID=Europe/Berlin:20240115T190000
DTSTAMP:20260423T122708
CREATED:20231227T102400Z
LAST-MODIFIED:20231227T102906Z
UID:6920-1705345200-1705345200@st-elisabeth-ulm.de
SUMMARY:Treffen Lektoren/Kommunionhelfer
DESCRIPTION:
URL:https://st-elisabeth-ulm.de/termine/treffen-lektoren-kommunionhelfer-5/
LOCATION:Roncallihaus
END:VEVENT
BEGIN:VEVENT
DTSTART;TZID=Europe/Berlin:20240116T160000
DTEND;TZID=Europe/Berlin:20240116T160000
DTSTAMP:20260423T122708
CREATED:20231227T102407Z
LAST-MODIFIED:20231227T102921Z
UID:6921-1705420800-1705420800@st-elisabeth-ulm.de
SUMMARY:Kinderchor
DESCRIPTION:
URL:https://st-elisabeth-ulm.de/termine/kinderchor-43/
LOCATION:Roncallihaus
END:VEVENT
BEGIN:VEVENT
DTSTART;TZID=Europe/Berlin:20240117T090000
DTEND;TZID=Europe/Berlin:20240117T090000
DTSTAMP:20260423T122708
CREATED:20231227T102407Z
LAST-MODIFIED:20231227T102921Z
UID:6922-1705482000-1705482000@st-elisabeth-ulm.de
SUMMARY:Krabbelgruppe
DESCRIPTION:
URL:https://st-elisabeth-ulm.de/termine/krabbelgruppe-52/
LOCATION:Roncallihaus
END:VEVENT
BEGIN:VEVENT
DTSTART;TZID=Europe/Berlin:20240118T093000
DTEND;TZID=Europe/Berlin:20240118T093000
DTSTAMP:20260423T122708
CREATED:20231227T102407Z
LAST-MODIFIED:20231227T102921Z
UID:6923-1705570200-1705570200@st-elisabeth-ulm.de
SUMMARY:Sozialausschuss
DESCRIPTION:
URL:https://st-elisabeth-ulm.de/termine/sozialausschuss/
LOCATION:Roncallihaus
END:VEVENT
BEGIN:VEVENT
DTSTART;TZID=Europe/Berlin:20240119T163000
DTEND;TZID=Europe/Berlin:20240119T163000
DTSTAMP:20260423T122708
CREATED:20231227T102407Z
LAST-MODIFIED:20231227T102921Z
UID:6924-1705681800-1705681800@st-elisabeth-ulm.de
SUMMARY:Nachtreffen Sternsinger
DESCRIPTION:
URL:https://st-elisabeth-ulm.de/termine/nachtreffen-sternsinger-2/
LOCATION:Roncallihaus
END:VEVENT
BEGIN:VEVENT
DTSTART;TZID=Europe/Berlin:20240119T183000
DTEND;TZID=Europe/Berlin:20240119T183000
DTSTAMP:20260423T122708
CREATED:20231227T102407Z
LAST-MODIFIED:20231227T102921Z
UID:6925-1705689000-1705689000@st-elisabeth-ulm.de
SUMMARY:Eucharistiefeier
DESCRIPTION:
URL:https://st-elisabeth-ulm.de/termine/eucharistiefeier-98/
LOCATION:St. Elisabeth
END:VEVENT
BEGIN:VEVENT
DTSTART;TZID=Europe/Berlin:20240121T110000
DTEND;TZID=Europe/Berlin:20240121T110000
DTSTAMP:20260423T122708
CREATED:20231227T102750Z
LAST-MODIFIED:20231227T102936Z
UID:6926-1705834800-1705834800@st-elisabeth-ulm.de
SUMMARY:Eucharistiefeier
DESCRIPTION:
URL:https://st-elisabeth-ulm.de/termine/eucharistiefeier-99/
LOCATION:St. Elisabeth
END:VEVENT
BEGIN:VEVENT
DTSTART;TZID=Europe/Berlin:20240121T110000
DTEND;TZID=Europe/Berlin:20240121T110000
DTSTAMP:20260423T122708
CREATED:20231227T102750Z
LAST-MODIFIED:20231227T102936Z
UID:6927-1705834800-1705834800@st-elisabeth-ulm.de
SUMMARY:Kinderelemente
DESCRIPTION:
URL:https://st-elisabeth-ulm.de/termine/kinderelemente-8/
LOCATION:Roncallihaus
END:VEVENT
BEGIN:VEVENT
DTSTART;TZID=Europe/Berlin:20240123T160000
DTEND;TZID=Europe/Berlin:20240123T160000
DTSTAMP:20260423T122708
CREATED:20231227T102750Z
LAST-MODIFIED:20231227T102936Z
UID:6928-1706025600-1706025600@st-elisabeth-ulm.de
SUMMARY:Kinderchor
DESCRIPTION:
URL:https://st-elisabeth-ulm.de/termine/kinderchor-44/
LOCATION:Roncallihaus
END:VEVENT
BEGIN:VEVENT
DTSTART;TZID=Europe/Berlin:20240124T090000
DTEND;TZID=Europe/Berlin:20240124T090000
DTSTAMP:20260423T122708
CREATED:20231227T102750Z
LAST-MODIFIED:20231227T102936Z
UID:6929-1706086800-1706086800@st-elisabeth-ulm.de
SUMMARY:Krabbelgruppe
DESCRIPTION:
URL:https://st-elisabeth-ulm.de/termine/krabbelgruppe-53/
LOCATION:Roncallihaus
END:VEVENT
BEGIN:VEVENT
DTSTART;TZID=Europe/Berlin:20240126T183000
DTEND;TZID=Europe/Berlin:20240126T183000
DTSTAMP:20260423T122708
CREATED:20231227T102751Z
LAST-MODIFIED:20231227T102936Z
UID:6930-1706293800-1706293800@st-elisabeth-ulm.de
SUMMARY:Eucharistiefeier
DESCRIPTION:
URL:https://st-elisabeth-ulm.de/termine/eucharistiefeier-100/
LOCATION:St. Elisabeth
END:VEVENT
BEGIN:VEVENT
DTSTART;TZID=Europe/Berlin:20240126T190000
DTEND;TZID=Europe/Berlin:20240126T190000
DTSTAMP:20260423T122708
CREATED:20231227T102753Z
LAST-MODIFIED:20231227T102951Z
UID:6931-1706295600-1706295600@st-elisabeth-ulm.de
SUMMARY:Offener Freitagstreff
DESCRIPTION:
URL:https://st-elisabeth-ulm.de/termine/offener-freitagstreff-5/
LOCATION:Roncallihaus
END:VEVENT
BEGIN:VEVENT
DTSTART;TZID=Europe/Berlin:20240128T110000
DTEND;TZID=Europe/Berlin:20240128T110000
DTSTAMP:20260423T122708
CREATED:20231227T102753Z
LAST-MODIFIED:20240124T131239Z
UID:6932-1706439600-1706439600@st-elisabeth-ulm.de
SUMMARY:Eucharistiefeier mit Schola Gregoriana
DESCRIPTION:
URL:https://st-elisabeth-ulm.de/termine/eucharistiefeier-101/
LOCATION:St. Elisabeth
END:VEVENT
BEGIN:VEVENT
DTSTART;TZID=Europe/Berlin:20240128T121500
DTEND;TZID=Europe/Berlin:20240128T121500
DTSTAMP:20260423T122708
CREATED:20231227T102753Z
LAST-MODIFIED:20231227T102951Z
UID:6933-1706444100-1706444100@st-elisabeth-ulm.de
SUMMARY:Gemeindeversammlung
DESCRIPTION:
URL:https://st-elisabeth-ulm.de/termine/gemeindeversammlung/
LOCATION:Roncallihaus
END:VEVENT
BEGIN:VEVENT
DTSTART;TZID=Europe/Berlin:20240130T160000
DTEND;TZID=Europe/Berlin:20240130T160000
DTSTAMP:20260423T122708
CREATED:20231227T102753Z
LAST-MODIFIED:20231227T102951Z
UID:6934-1706630400-1706630400@st-elisabeth-ulm.de
SUMMARY:Kinderchor
DESCRIPTION:
URL:https://st-elisabeth-ulm.de/termine/kinderchor-45/
LOCATION:Roncallihaus
END:VEVENT
BEGIN:VEVENT
DTSTART;TZID=Europe/Berlin:20240131T090000
DTEND;TZID=Europe/Berlin:20240131T090000
DTSTAMP:20260423T122708
CREATED:20231227T102753Z
LAST-MODIFIED:20231227T102951Z
UID:6935-1706691600-1706691600@st-elisabeth-ulm.de
SUMMARY:Krabbelgruppe
DESCRIPTION:
URL:https://st-elisabeth-ulm.de/termine/krabbelgruppe-54/
LOCATION:Roncallihaus
END:VEVENT
END:VCALENDAR