BEGIN:VCALENDAR
VERSION:2.0
PRODID:-//St. Elisabeth Ulm - ECPv6.15.20//NONSGML v1.0//EN
CALSCALE:GREGORIAN
METHOD:PUBLISH
X-WR-CALNAME:St. Elisabeth Ulm
X-ORIGINAL-URL:https://st-elisabeth-ulm.de
X-WR-CALDESC:Veranstaltungen für St. Elisabeth Ulm
REFRESH-INTERVAL;VALUE=DURATION:PT1H
X-Robots-Tag:noindex
X-PUBLISHED-TTL:PT1H
BEGIN:VTIMEZONE
TZID:Europe/Berlin
BEGIN:DAYLIGHT
TZOFFSETFROM:+0100
TZOFFSETTO:+0200
TZNAME:CEST
DTSTART:20230326T010000
END:DAYLIGHT
BEGIN:STANDARD
TZOFFSETFROM:+0200
TZOFFSETTO:+0100
TZNAME:CET
DTSTART:20231029T010000
END:STANDARD
BEGIN:DAYLIGHT
TZOFFSETFROM:+0100
TZOFFSETTO:+0200
TZNAME:CEST
DTSTART:20240331T010000
END:DAYLIGHT
BEGIN:STANDARD
TZOFFSETFROM:+0200
TZOFFSETTO:+0100
TZNAME:CET
DTSTART:20241027T010000
END:STANDARD
BEGIN:DAYLIGHT
TZOFFSETFROM:+0100
TZOFFSETTO:+0200
TZNAME:CEST
DTSTART:20250330T010000
END:DAYLIGHT
BEGIN:STANDARD
TZOFFSETFROM:+0200
TZOFFSETTO:+0100
TZNAME:CET
DTSTART:20251026T010000
END:STANDARD
END:VTIMEZONE
BEGIN:VEVENT
DTSTART;TZID=Europe/Berlin:20240202T183000
DTEND;TZID=Europe/Berlin:20240202T183000
DTSTAMP:20260423T121804
CREATED:20240124T131045Z
LAST-MODIFIED:20240124T131045Z
UID:7007-1706898600-1706898600@st-elisabeth-ulm.de
SUMMARY:Eucharistiefeier\, Kerzenweihe\, Blasiussegen
DESCRIPTION:
URL:https://st-elisabeth-ulm.de/termine/eucharistiefeier-kerzenweihe-blasiussegen-3/
LOCATION:St. Elisabeth
END:VEVENT
BEGIN:VEVENT
DTSTART;TZID=Europe/Berlin:20240202T190000
DTEND;TZID=Europe/Berlin:20240202T190000
DTSTAMP:20260423T121804
CREATED:20240123T095855Z
LAST-MODIFIED:20240124T131210Z
UID:6999-1706900400-1706900400@st-elisabeth-ulm.de
SUMMARY:Orgelkonzert Contra-F (Dr. Andreas Weil)
DESCRIPTION:
URL:https://st-elisabeth-ulm.de/termine/orgelkonzert-contra-f-andreas-weil/
LOCATION:St. Elisabeth
END:VEVENT
BEGIN:VEVENT
DTSTART;TZID=Europe/Berlin:20240204T110000
DTEND;TZID=Europe/Berlin:20240204T110000
DTSTAMP:20260423T121804
CREATED:20240124T131045Z
LAST-MODIFIED:20240124T131045Z
UID:7008-1707044400-1707044400@st-elisabeth-ulm.de
SUMMARY:Eucharistiefeier; Kerzenweihe\, Blasiussegen
DESCRIPTION:
URL:https://st-elisabeth-ulm.de/termine/eucharistiefeier-kerzenweihe-blasiussegen-4/
LOCATION:St. Elisabeth
END:VEVENT
BEGIN:VEVENT
DTSTART;TZID=Europe/Berlin:20240206T160000
DTEND;TZID=Europe/Berlin:20240206T160000
DTSTAMP:20260423T121804
CREATED:20240124T131045Z
LAST-MODIFIED:20240124T131045Z
UID:7009-1707235200-1707235200@st-elisabeth-ulm.de
SUMMARY:Kinderchor
DESCRIPTION:
URL:https://st-elisabeth-ulm.de/termine/kinderchor-46/
LOCATION:Roncallihaus
END:VEVENT
BEGIN:VEVENT
DTSTART;TZID=Europe/Berlin:20240207T090000
DTEND;TZID=Europe/Berlin:20240207T090000
DTSTAMP:20260423T121804
CREATED:20240124T131046Z
LAST-MODIFIED:20240124T131046Z
UID:7010-1707296400-1707296400@st-elisabeth-ulm.de
SUMMARY:Krabbelgruppe
DESCRIPTION:
URL:https://st-elisabeth-ulm.de/termine/krabbelgruppe-55/
LOCATION:Roncallihaus
END:VEVENT
BEGIN:VEVENT
DTSTART;TZID=Europe/Berlin:20240207T190000
DTEND;TZID=Europe/Berlin:20240207T190000
DTSTAMP:20260423T121804
CREATED:20240124T131046Z
LAST-MODIFIED:20240124T131046Z
UID:7011-1707332400-1707332400@st-elisabeth-ulm.de
SUMMARY:Taizè-Gebet
DESCRIPTION:
URL:https://st-elisabeth-ulm.de/termine/taize-gebet-12/
LOCATION:St. Elisabeth
END:VEVENT
BEGIN:VEVENT
DTSTART;TZID=Europe/Berlin:20240209T183000
DTEND;TZID=Europe/Berlin:20240209T183000
DTSTAMP:20260423T121804
CREATED:20240124T131047Z
LAST-MODIFIED:20240124T131047Z
UID:7012-1707503400-1707503400@st-elisabeth-ulm.de
SUMMARY:Eucharistiefeier
DESCRIPTION:
URL:https://st-elisabeth-ulm.de/termine/eucharistiefeier-102/
LOCATION:St. Elisabeth
END:VEVENT
BEGIN:VEVENT
DTSTART;TZID=Europe/Berlin:20240211T110000
DTEND;TZID=Europe/Berlin:20240211T110000
DTSTAMP:20260423T121804
CREATED:20240124T131047Z
LAST-MODIFIED:20240124T131047Z
UID:7013-1707649200-1707649200@st-elisabeth-ulm.de
SUMMARY:Eucharistiefeier mit Taufe\, anschl. Kirchkaffee
DESCRIPTION:
URL:https://st-elisabeth-ulm.de/termine/eucharistiefeier-mit-taufe-anschl-kirchkaffee/
LOCATION:St. Elisabeth
END:VEVENT
BEGIN:VEVENT
DTSTART;TZID=Europe/Berlin:20240214T143000
DTEND;TZID=Europe/Berlin:20240214T143000
DTSTAMP:20260423T121804
CREATED:20240124T131047Z
LAST-MODIFIED:20240124T131047Z
UID:7014-1707921000-1707921000@st-elisabeth-ulm.de
SUMMARY:Kaffeezeit
DESCRIPTION:
URL:https://st-elisabeth-ulm.de/termine/kaffeezeit-16/
LOCATION:Roncallihaus
END:VEVENT
BEGIN:VEVENT
DTSTART;TZID=Europe/Berlin:20240214T183000
DTEND;TZID=Europe/Berlin:20240214T183000
DTSTAMP:20260423T121804
CREATED:20240124T131101Z
LAST-MODIFIED:20240124T131729Z
UID:7015-1707935400-1707935400@st-elisabeth-ulm.de
SUMMARY:Gottesdienst der SE zum Aschermittwoch Mariä Himmelfahrt
DESCRIPTION:
URL:https://st-elisabeth-ulm.de/termine/gottesdienst-der-se-zum-aschermittwoch-2/
LOCATION:Kirche Mariä Himmelfahrt
END:VEVENT
BEGIN:VEVENT
DTSTART;TZID=Europe/Berlin:20240216T183000
DTEND;TZID=Europe/Berlin:20240216T183000
DTSTAMP:20260423T121804
CREATED:20240124T131102Z
LAST-MODIFIED:20240124T131102Z
UID:7016-1708108200-1708108200@st-elisabeth-ulm.de
SUMMARY:Eucharistiefeier
DESCRIPTION:
URL:https://st-elisabeth-ulm.de/termine/eucharistiefeier-103/
LOCATION:St. Elisabeth
END:VEVENT
BEGIN:VEVENT
DTSTART;TZID=Europe/Berlin:20240218T110000
DTEND;TZID=Europe/Berlin:20240218T110000
DTSTAMP:20260423T121804
CREATED:20240124T131102Z
LAST-MODIFIED:20240124T132500Z
UID:7017-1708254000-1708254000@st-elisabeth-ulm.de
SUMMARY:Eucharistiefeier mit Schererensemble
DESCRIPTION:
URL:https://st-elisabeth-ulm.de/termine/eucharistiefeier-mit-schola-gregoriana-4/
LOCATION:St. Elisabeth
END:VEVENT
BEGIN:VEVENT
DTSTART;TZID=Europe/Berlin:20240220T160000
DTEND;TZID=Europe/Berlin:20240220T160000
DTSTAMP:20260423T121804
CREATED:20240124T131102Z
LAST-MODIFIED:20240124T131102Z
UID:7018-1708444800-1708444800@st-elisabeth-ulm.de
SUMMARY:Kinderchor
DESCRIPTION:
URL:https://st-elisabeth-ulm.de/termine/kinderchor-47/
LOCATION:Roncallihaus
END:VEVENT
BEGIN:VEVENT
DTSTART;TZID=Europe/Berlin:20240221T090000
DTEND;TZID=Europe/Berlin:20240221T090000
DTSTAMP:20260423T121804
CREATED:20240124T131102Z
LAST-MODIFIED:20240124T131102Z
UID:7019-1708506000-1708506000@st-elisabeth-ulm.de
SUMMARY:Krabbelgruppe
DESCRIPTION:
URL:https://st-elisabeth-ulm.de/termine/krabbelgruppe-56/
LOCATION:Roncallihaus
END:VEVENT
BEGIN:VEVENT
DTSTART;TZID=Europe/Berlin:20240221T160000
DTEND;TZID=Europe/Berlin:20240221T160000
DTSTAMP:20260423T121804
CREATED:20240124T131116Z
LAST-MODIFIED:20240124T131116Z
UID:7020-1708531200-1708531200@st-elisabeth-ulm.de
SUMMARY:Kommunionvorbereitung
DESCRIPTION:
URL:https://st-elisabeth-ulm.de/termine/kommunionvorbereitung-11/
LOCATION:St. Elisabeth
END:VEVENT
BEGIN:VEVENT
DTSTART;TZID=Europe/Berlin:20240223T183000
DTEND;TZID=Europe/Berlin:20240223T183000
DTSTAMP:20260423T121804
CREATED:20240124T131117Z
LAST-MODIFIED:20240124T131117Z
UID:7021-1708713000-1708713000@st-elisabeth-ulm.de
SUMMARY:Eucharistiefeier
DESCRIPTION:
URL:https://st-elisabeth-ulm.de/termine/eucharistiefeier-104/
LOCATION:St. Elisabeth
END:VEVENT
BEGIN:VEVENT
DTSTART;TZID=Europe/Berlin:20240223T190000
DTEND;TZID=Europe/Berlin:20240223T190000
DTSTAMP:20260423T121804
CREATED:20240124T131117Z
LAST-MODIFIED:20240124T131117Z
UID:7022-1708714800-1708714800@st-elisabeth-ulm.de
SUMMARY:Offener Freitagstreff
DESCRIPTION:
URL:https://st-elisabeth-ulm.de/termine/offener-freitagstreff-6/
LOCATION:Roncallihaus
END:VEVENT
BEGIN:VEVENT
DTSTART;TZID=Europe/Berlin:20240225T110000
DTEND;TZID=Europe/Berlin:20240225T110000
DTSTAMP:20260423T121804
CREATED:20240124T131117Z
LAST-MODIFIED:20240124T131117Z
UID:7023-1708858800-1708858800@st-elisabeth-ulm.de
SUMMARY:Eucharistiefeier
DESCRIPTION:
URL:https://st-elisabeth-ulm.de/termine/eucharistiefeier-105/
LOCATION:St. Elisabeth
END:VEVENT
BEGIN:VEVENT
DTSTART;TZID=Europe/Berlin:20240227T160000
DTEND;TZID=Europe/Berlin:20240227T160000
DTSTAMP:20260423T121804
CREATED:20240124T131117Z
LAST-MODIFIED:20240124T131117Z
UID:7024-1709049600-1709049600@st-elisabeth-ulm.de
SUMMARY:Kinderchor
DESCRIPTION:
URL:https://st-elisabeth-ulm.de/termine/kinderchor-48/
LOCATION:Roncallihaus
END:VEVENT
BEGIN:VEVENT
DTSTART;TZID=Europe/Berlin:20240227T193000
DTEND;TZID=Europe/Berlin:20240227T193000
DTSTAMP:20260423T121804
CREATED:20240124T131132Z
LAST-MODIFIED:20240124T131132Z
UID:7025-1709062200-1709062200@st-elisabeth-ulm.de
SUMMARY:KGR-Sitzung
DESCRIPTION:
URL:https://st-elisabeth-ulm.de/termine/kgr-sitzung-14/
LOCATION:Roncallihaus
END:VEVENT
BEGIN:VEVENT
DTSTART;TZID=Europe/Berlin:20240228T090000
DTEND;TZID=Europe/Berlin:20240228T090000
DTSTAMP:20260423T121804
CREATED:20240124T131132Z
LAST-MODIFIED:20240124T131132Z
UID:7026-1709110800-1709110800@st-elisabeth-ulm.de
SUMMARY:Krabbelgruppe
DESCRIPTION:
URL:https://st-elisabeth-ulm.de/termine/krabbelgruppe-57/
LOCATION:Roncallihaus
END:VEVENT
END:VCALENDAR